Workbook

Sheet TEST_CO (2)
B3: Data Structure & Algorithm
B6: Sr.No. | C6: Course Objectives | E6: TEST-II
B7: CO1 | C7: To design and implement linear data structures.
B8: CO2 | C8: To design and implement nonlinear data structures.
B9: CO3 | C9: To teach different sorting and searching techniques. | E9: Q.1 Attempt Any two(10) covers (CO2)
B10: CO4 | C10: To choose appropriate data structure and apply it in various problem domains. | E10: a)
E11: b)
E12: c)
B13: Sr.No. | C13: Course Outcomes | E13: Q.2 Attempt Any two(10) covers(CO3)
B14: CO1 | C14: Students will be able to implement various linear data structures & be able to handle operations like insertion, deletion, searching and traversing on various data structures. | E14: a)
B15: CO2 | C15: Students will be able to implement various nonlinear data structures & be able to handle operations like insertion, deletion, searching and traversing on various data structures. | E15: b)
B16: CO3 | C16: Students will be able to select appropriate sorting and searching technique for given problem. | E16: c)
B17: CO4 | C17: Students will be able to choose appropriate data structure and apply it in various problem domains.

Sheet TEST_CO
B3: Data Structure & Algorithm
B6: Sr.No. | C6: Course Objectives | E6: TEST-I
B7: CO1 | C7: To design and implement linear data structures.
B8: CO2 | C8: To design and implement nonlinear data structures.
B9: CO3 | C9: To teach different sorting and searching techniques. | E9: Q.1 Attempt Any two(10) covers (CO1)
B10: CO4 | C10: To choose appropriate data structure and apply it in various problem domains. | E10: a)
E11: b)
E12: c)
B13: Sr.No. | C13: Course Outcomes | E13: Q.2 Attempt Any two(10) covers(CO4)
B14: CO1 | C14: Students will be able to implement various linear data structures & be able to handle operations like insertion, deletion, searching and traversing on various data structures. | E14: a)
B15: CO2 | C15: Students will be able to implement various nonlinear data structures & be able to handle operations like insertion, deletion, searching and traversing on various data structures. | E15: b)
B16: CO3 | C16: Students will be able to select appropriate sorting and searching technique for given problem. | E16: c)
B17: CO4 | C17: Students will be able to choose appropriate data structure and apply it in various problem domains.

Sheet LAB-D
A1: Academic Year 2018-19 Odd Semester)
A2: Class : S.E. IT -A | C2: Subject : Data Structures & Algorithm
A3: Lab Execution Plan:
A5: =LA!A4 -> 1 | B5: =LA!B4 -> ALBEN ANTAPPAN
A6: =LA!A5 -> 2 | B6: =LA!B5 -> AHMAD AFZAL SALEEM
A7: =LA!A6 -> 3 | B7: =LA!B6 -> BORKAR SIDDHESH RAMADAS
A8: =LA!A7 -> 4 | B8: =LA!B7 -> CALVIN RACHEL JOHNEYAL
A9: =LA!A8 -> 5 | B9: =LA!B8 -> CHAVAN SHUBHAM KAILAS
A10: =LA!A9 -> 6 | B10: =LA!B9 -> CHAVAN VEDANT SANTOSH
A11: =LA!A10 -> 7 | B11: =LA!B10 -> CHOKSHI SIDDHI MUKESH
A12: =LA!A11 -> 8 | B12: =LA!B11 -> DANDEKAR PRATYUSH PRALAY
A13: =LA!A12 -> 9 | B13: =LA!B12 -> DESHMUKH SAUMYA SANJAY
A14: =LA!A13 -> 10 | B14: =LA!B13 -> DSOUZA AJUS PASKU
A15: =LA!A14 -> 11 | B15: =LA!B14 -> DURGADE RUSHIKESH SATISH
A16: =LA!A15 -> 12 | B16: =LA!B15 -> GORHE OMKAR PURSHOTTAM
... A24: =LA!A23 -> 20 | B24: =LA!B23 -> KARKERA SHRISHTI LAKSHMESH KARKERA

Sheet LAB-C
A1: Academic Year 2018-19 Odd Semester)
A2: Class : S.E. IT -A | C2: Subject : Data Structures & Algorithm
A3: Lab Execution Plan: | C3: 16/7/18
C4: Expt1
A5: =LA!A44 -> 41 | B5: =LA!B44 -> POOJARY TAMAN SHANKAR POOJARY | C5: p
A6: =LA!A45 -> 42 | B6: =LA!B45 -> POOJARY TAPAN SHANKAR POOJARY | C6: p
A7: =LA!A46 -> 43 | B7: =LA!B46 -> POTDAR ADITI SANTOSH
A8: =LA!A47 -> 44 | B8: =LA!B47 -> PRABHU VEDANT NILESH | C8: p
A9: =LA!A48 -> 45 | B9: =LA!B48 -> RABAD DEEPAK SURESH | C9: p
A10: =LA!A49 -> 46 | B10: =LA!B49 -> RAJPUT SAVITA CHANDAN | C10: p
A11: =LA!A50 -> 47 | B11: =LA!B50 -> RAMCHANDANI DEEPAK CHANDRU | C11: p
A12: =LA!A51 -> 48 | B12: =LA!B51 -> RAUT SHARVIL SATEJ | C12: p
A13: =LA!A52 -> 49 | B13: =LA!B52 -> RAWALE PRACHI TULSIDAS | C13: p
A14: =LA!A53 -> 50 | B14: =LA!B53 -> SAVLOT ASHOKKUMAR MITHALAL | C14: p
A15: =LA!A54 -> 51 | B15: =LA!B54 -> SEQUEIRA REMICA CLAYTON | C15: p
A16: =LA!A55 -> 52 | B16: =LA!B55 -> SHAH NIRALI RAKESH | C16: p
A17: =LA!A56 -> 53 | B17: =LA!B56 -> SINGH ABHISHEK KUMAR RAJENDRA PRASAD | C17: p
A18: =LA!A57 -> 54 | B18: =LA!B57 -> SONI VAIBHAV DINESH | C18: p
A19: =LA!A58 -> 55 | B19: =LA!B58 -> SUTAR DIVYANI VIKRAM | C19: p
... A24: =LA!A63 -> 60 | B24: =LA!B63 -> YADAV ABHISHEK RAMJEET | C24: p
A25: 61 | B25: =LA!B64 -> YADAV RAHUL RAJKUMAR YADAV | C25: p

Sheet LAB-B
A1: Academic Year 2018-19 Odd Semester)
A2: Class : S.E. IT -A | C2: Subject : Data Structures & Algorithm
A3: Class : S.E. IT -A | C3: DATE
A4: Lab Attendance: SEIT-A, DSL -LAB, AY-2018-19 | C4: 43441 | D4: 16/7/18
A5: =LA!A24 -> 21 | B5: =LA!B24 -> KEVADIYA SMEET AMARSHIBHAI | C5: 1 | D5: 2
A6: =LA!A25 -> 22 | B6: =LA!B25 -> KHAN ASHIF KHAN MOHAMMAD ASLAM KHAN | C6: 1 | D6: 2
A7: =LA!A26 -> 23 | B7: =LA!B26 -> KOTHARI SIDDHARTH SURESH | C7: 1 | D7: 2
A8: =LA!A27 -> 24 | B8: =LA!B27 -> KOTHAWADE YASH PRAVIN | C8: 1 | D8: 2
A9: =LA!A28 -> 25 | B9: =LA!B28 -> KOTIAN KRITIKA SUDHAKAR | C9: 1 | D9: 2
A10: =LA!A29 -> 26 | B10: =LA!B29 -> MADDIRALA ACHYUTH SRIDHAR | C10: 1 | D10: 2
A11: =LA!A30 -> 27 | B11: =LA!B30 -> MAHARANA KAMALKANT ADIKANT | C11: 1 | D11: 2
A12: =LA!A31 -> 28 | B12: =LA!B31 -> MARTIN SHARLENE ANDREW | C12: 1 | D12: 2
A13: =LA!A32 -> 29 | B13: =LA!B32 -> MATHIAS FRANKLIN FRANCIS | C13: 1 | D13: 2
A14: =LA!A33 -> 30 | B14: =LA!B33 -> MATHUR ROHAN MADANPAL | C14: 1 | D14: 2
A15: =LA!A34 -> 31 | B15: =LA!B34 -> METHRI SHARON IMMANUEL | C15: 1 | D15: 2
A16: =LA!A35 -> 32 | B16: =LA!B35 -> METHRI VISHAL SABAYYA | C16: 1 | D16: 2
... A24: =LA!A43 -> 40 | B24: =LA!B43 -> PEREIRA SAVIO CLAYTON | C24: 1 | D24: 2
B26: Kaustubh | D26: 1

Sheet LA
A1: Attendance Sheet - Second Year (IT)
A2: Roll No. | B2: Name | C2: Lecture
C3: 1 | D3: 1 | E3: 2 | F3: 3 | G3: 4 | H3: 5 | I3: 6 | J3: 7 | K3: 8 | L3: 9 | M3: 10 | N3: 11 | O3: 12 | P3: 13 | Q3: 14 | R3: 15 | S3: 16 | T3: 17 | U3: 18 | V3: 19 | W3: 20 | X3: 21 | Y3: 22 | Z3: 23 | AA3: 24 | AB3: 25 | AC3: 26 | AD3: 27 | AE3: 28 | AF3: 29 | AG3: 30
A4: 1 | B4: ALBEN ANTAPPAN | C4: Male
A5: 2 | B5: AHMAD AFZAL SALEEM | C5: Male
A6: 3 | B6: BORKAR SIDDHESH RAMADAS | C6: Male
A7: 4 | B7: CALVIN RACHEL JOHNEYAL | C7: Female
A8: 5 | B8: CHAVAN SHUBHAM KAILAS | C8: Male
A9: 6 | B9: CHAVAN VEDANT SANTOSH | C9: Male
A10: 7 | B10: CHOKSHI SIDDHI MUKESH | C10: Female
A11: 8 | B11: DANDEKAR PRATYUSH PRALAY | C11: Male
A12: 9 | B12: DESHMUKH SAUMYA SANJAY | C12: Female
A13: 10 | B13: DSOUZA AJUS PASKU | C13: Male
A14: 11 | B14: DURGADE RUSHIKESH SATISH | C14: Male
A15: 12 | B15: GORHE OMKAR PURSHOTTAM | C15: Male
... A64: 61 | B64: YADAV RAHUL RAJKUMAR YADAV | C64: Male

Sheet LAB-A
A1: Academic Year 2018-19 Odd Semester)
A2: Class : S.E. IT -A | C2: Subject : Data Structures & Algorithm
A3: Lab Attendance: SEIT-A, DSL -LAB, AY-2018-19
B4: Date------>> | C4: 43441
A5: =LA!A4 -> 1 | B5: =LA!B4 -> ALBEN ANTAPPAN | C5: 1
A6: =LA!A5 -> 2 | B6: =LA!B5 -> AHMAD AFZAL SALEEM | C6: 1
A7: =LA!A6 -> 3 | B7: =LA!B6 -> BORKAR SIDDHESH RAMADAS | C7: 1
A8: =LA!A7 -> 4 | B8: =LA!B7 -> CALVIN RACHEL JOHNEYAL | C8: 1
A9: =LA!A8 -> 5 | B9: =LA!B8 -> CHAVAN SHUBHAM KAILAS | C9: 1
A10: =LA!A9 -> 6 | B10: =LA!B9 -> CHAVAN VEDANT SANTOSH | C10: 1
A11: =LA!A10 -> 7 | B11: =LA!B10 -> CHOKSHI SIDDHI MUKESH | C11: 1
A12: =LA!A11 -> 8 | B12: =LA!B11 -> DANDEKAR PRATYUSH PRALAY | C12: 1
A13: =LA!A12 -> 9 | B13: =LA!B12 -> DESHMUKH SAUMYA SANJAY | C13: AB
A14: =LA!A13 -> 10 | B14: =LA!B13 -> DSOUZA AJUS PASKU | C14: 1
A15: =LA!A14 -> 11 | B15: =LA!B14 -> DURGADE RUSHIKESH SATISH | C15: 1
A16: =LA!A15 -> 12 | B16: =LA!B15 -> GORHE OMKAR PURSHOTTAM | C16: 1
A17: =LA!A16 -> 13 | B17: =LA!B16 -> GUPTA MANISHKUMAR MEWALAL | C17: 1
A18: =LA!A17 -> 14 | B18: =LA!B17 -> GUPTA ABHISHEK SUSHILKUMAR | C18: 1
A19: =LA!A18 -> 15 | B19: =LA!B18 -> JAIN RITIK DILIP | C19: AB
A20: =LA!A19 -> 16 | B20: =LA!B19 -> JAIN YASH HASMUKH | C20: 1
A21: =LA!A20 -> 17 | B21: =LA!B20 -> KABRA RHYTHAM PAWAN KUMAR | C21: 1
A22: =LA!A21 -> 18 | B22: =LA!B21 -> KAKDE NIDHI DEEPAK | C22: 1
A23: =LA!A22 -> 19 | B23: =LA!B22 -> KALWAR ACHAL VIJAY | C23: 1
A24: =LA!A23 -> 20 | B24: =LA!B23 -> KARKERA SHRISHTI LAKSHMESH KARKERA | C24: 1

Sheet DSA-D
B2: Academic Year 2018-19 Odd Semester)
B3: Class : S.E. IT -A | D3: Subject : Data Structures & Algorithm
B4: Lab Execution Plan:
B5: Sr. No. | C5: Title of the Experiment | D5: Planned Date | E5: LO Mapped
B6: 1. | C6: Array Implementation of stack | D6: 43380 | E6: LO1
C7: Linked list Implementation of stack | D7: 43380 | E7: LO1
B8: 2 | C8: Implementations of application of stack such as Infix to Postfix Transformation and its evaluation program. | D8: 17/7/18 | E8: LO1, LO4
B9: 3 | C9: Array implementation of Linear queue | D9: 24/7/18 | E9: LO1
B10: 4 | C10: Array implementation of Circular queue | D10: 24/7/18 | E10: LO1
B11: 5 | C11: Implementation of Singly Linked List | D11: 31/7/18 | E11: LO1
B12: 6 | C12: Implementation of Doubly Linked List | D12: 43289 | E12: LO1
B13: 7 | C13: Implementations of Binary Search Tree | D13: 43289 | E13: LO2
B14: 8 | C14: Implementation of Bubble Sort and Insertion Sort | D14: 21/8/18 | E14: LO3
B15: 9 | C15: Implementation of Quick sort and Merge sort | D15: 21/8/18 | E15: LO3
B16: 10 | C16: Implementation of Heap sort | D16: 28/8/18 | E16: LO3
B17: 11 | C17: Implementation of Hashing techniques | D17: 43199 | E17: LO3
B18: 12 | C18: Implementation of Depth First Search and Breadth First Search | D18: 43413 | E18: LO2,LO4
B19: 13 | C19: Implementation of shortest path algorithm | D19: 18/9/18 | E19: LO2,LO4
B22: Subject Incharge
B23: (Mrs. Chhaya Narvekar)

Sheet DSA-C
B2: Academic Year 2018-19 Odd Semester)
B3: Class : S.E. IT -C | D3: Subject : Data Structures & Algorithm
B4: Lab Execution Plan:
B5: Sr. No. | C5: Title of the Experiment | D5: Planned Date | E5: LO Mapped | F5: Actual date
B6: 1. | C6: Array Implementation of stack | D6: 43350 | E6: LO1 | F6: 43441
B7: 2. | C7: Linked list Implementation of stack | D7: 16/7/2018 | E7: LO1
B8: 3. | C8: Implementations of application of stack such as Infix to Postfix Transformation and its evaluation program. | D8: 23/7/2018 | E8: LO1, LO4 | F8: 16/7/2018
B9: 4. | C9: Array implementation of Linear queue | D9: 30/7/2018 | E9: LO1
B10: 5. | C10: Array implementation of Circular queue | D10: 30/7/2018 | E10: LO1
B11: 6. | C11: Implementation of Singly Linked List | D11: 43259 | E11: LO1
B12: 7. | C12: Implementation of Doubly Linked List | D12: 20/8/2018 | E12: LO1
B13: 8. | C13: Implementations of Binary Search Tree | D13: 27/8/2018 | E13: LO2
B14: 9. | C14: Implementation of Bubble Sort and Insertion Sort | D14: 43168 | E14: LO3
B15: 10. | C15: Implementation of Quick sort and Merge sort | D15: 43382 | E15: LO3
B16: 11. | C16: Implementation of Heap sort | D16: 17/9/2018 | E16: LO3
B17: 12. | C17: Implementation of Hashing techniques | D17: 24/9/2018 | E17: LO3
B18: 13. | C18: Implementation of Depth First Search and Breadth First Search | D18: 43110 | E18: LO2,LO4
B19: 14. | C19: Implementation of shortest path algorithm | D19: 43110 | E19: LO2,LO4
B22: Subject Incharge
B23: (Mrs. Chhaya Narvekar)

Sheet DSA2018PLan
A4: Department: Information Technology
B6: Class: SE (IT) | E6: Subject: Data Structures & Analysis of Algorithm
B7: Name of the Faculty: Chhaya Narvekar | E7: Target Lectures- 48
B8: Lesson Plan
B9: Lecture | C9: Module | D9: Topic to be Covered | E9: Teaching Aids | F9: CO Mapped | G9: References | H9: Planned Date | I9: Topic covered | J9: Actual Date | K9: Remark
B10: No.
B11: 1. | C11: 1 | D11: Review of C constructs, Introduction to Data Structure, overview of the subject | E11: Black board | F11: CO1 | G11: T2,R3 | H11: 43166 | I11: Introduction to data structures, subject overview, course objectives & outcomes | J11: 43197
B12: 2. | C12: Introduction to Data Structures | D12: Data types – primitive and composite, Types of Data Structures – Linear and Nonlinear | F12: CO1,CO2 | G12: T2 | H12: 43197 | I12: Data types – primitive and composite, Types of Data Structures – Linear and Nonlinear | J12: 43227 | K12: 3/7 /18 heavy rain
B13: 3. | D13: Operations on Data Structures, Concept of ADT, Arrays | F13: CO1,CO2 | G13: T2,R3 | H13: 43227 | I13: Array operations, Structures review | J13: 43258
B14: 4. | D14: Program using structure, Recursion concept | F14: CO1 | G14: R3 | H14: 43258 | I14: Recursion, complexity of algorithm, writing pseudo-code | J14: 43258 | K14: nikita lect
B15: 5. | D15: Complexity of algorithm, writing pseudo-code | F15: CO3 | G15: R3 | H15: 43015 | I15: Stack concept, stack using array | J15: 43411 | K15: 10/7/2018 heavy rain
B16: 6. | C16: 2 | D16: Introduction, ADT of Stack, Operations on Stack | E16: Black board | F16: CO1 | G16: T2,T3,R4 | H16: 43046 | I16: Expression conversions, infix to postfix, infix to prefix | J16: 43411 | K16: Jaychand lecture(11.00am)
B17: 7. | C17: Stack and Queues | D17: Array Implementation of Stack | F17: CO1 | G17: T3,R4 | H17: 43441 | I17: Infix to postfix expression conversion using stack | J17: 43441
B18: 8. | D18: Applications of Stack- expression conversion (infix, prefix, postfix) | F18: CO1,CO4 | G18: T2,T3 | H18: 13/7/2018 | I18: Postfix evaluation, infix to prefix example | J18: 13/7/18(2 lectute) | K18: Jaychand lecture(8.45am)
D19: Infix to postfix expression conversion. | K19: one my regular lecture(9.45)
B20: 9. | D20: Postfix Evaluation | F20: CO1,CO4 | G20: T2,T3 | H20: 17/7/2018 | I20: Linked list concept, stack using linked list
B21: 10. | D21: ADT of Queue, Operations on Queue, Array Implementation of Queue | F21: CO1 | G21: T2,T3 | H21: 19/7/2018 | I21: Singly linked list: insert at begin & end | K21: 16/7/2018 (Jaychand lecture )
K22: 2.30-3.30
B23: 11. | D23: Circular Queue, Double Ended Queue | F23: CO1 | G23: T2,T3 | H23: 20/7/2018 | I23: Singly linked list: insert after & before, search
B25: 12. | D25: Priority Queue, Applications of Queue | F25: CO1,CO4 | G25: T2,T3 | H25: 24/7/2018 | I25: Singly linked link: insert at position, display
B26: 13. | D26: Revision & Question paper discussion | G26: T2,T3 | H26: 25/7/2018 | I26: Singly linked list: delete, reverse, sort
B27: 14. | C27: 3 | D27: Introduction, Representation of Linked List, Linked List v/s Array, Linked Implementation of Stack | E27: Black board | F27: CO1,CO2 | G27: T2,T3 | H27: 26/7/2018 | I27: Linear queue
C28: Linked List
B29: 15. | D29: Linked list operations | F29: CO1 | H29: 27/7/2018 | I29: Circular queue
B30: 16. | D30: Linked list operations | F30: CO1 | G30: T2,R3 | H30: 31/7/2018 | I30: Circular queue, double-ended queue
B31: 17. | D31: Linked list operations | F31: CO1 | H31: 43108 | I31: Revision Questions group wise
B32: 18. | D32: Linked Implementation of Queue | F32: CO1 | G32: T2,R3 | H32: 43139 | I32: Circular linked list: insertion & display
B33: 19. | D33: Circular Linked List | F33: CO1,CO4 | G33: T2,R3 | H33: 43167 | I33: Circular linked list: deletion & search
B34: 20. | D34: Doubly Linked List | F34: CO1,CO4 | G34: T2,R3 | H34: 43289 | I34: Polynomial representation & addition using SLL
B35: 21. | D35: Doubly Linked List | F35: CO1,CO4 | H35: 43320 | I35: Polynomial addition using SLL
B36: 22. | D36: Application – Polynomial Representation and Addition | F36: CO1,CO4 | G36: T3,R4 | H36: 43351 | I36: Doubly linked list: insert & delete at begin & end
B37: 23. | D37: Revision & Question paper discussion | G37: T3,R4 | H37: 21/8/2018 | I37: Doubly linked list: insert & delete at given position
B38: 24. | D38: Introduction, Tree Terminologies | E38: Black board, Presentation | F38: CO2 | G38: T3,R4 | H38: 23/8/2018 | I38: Revision of linked list
B39: 25. | C39: 4 | D39: Basic trees concept, Binary tree representation, Types of Binary Tree | F39: CO2 | G39: T3,R4 | H39: 24/8/2018 | I39: Bubble, Insertion & selection sort
B40: 26. | C40: Trees | D40: Binary tree operation | F40: CO2 | G40: T3,R4 | H40: 28/8/2018 | I40: Quicksort
B41: 27. | D41: Binary tree traversal | F41: CO2,CO4 | H41: 29/8/2018 | I41: Mergesort
B42: 28. | D42: Binary search tree implementation | F42: CO2,CO4 | G42: T2,R3 | H42: 29/8/2018 | I42: Heap sort
B43: 29. | D43: Applications – Expression Tree, Huffman Encoding | F43: CO2,CO4 | G43: T2,R3 | H43: 30/8/2018 | I43: Hashing concept, Linear probing
B44: 30. | D44: Threaded binary tree | F44: CO2,CO4 | G44: T2,R3 | H44: 31/8/2018 | I44: Quadratic hashing
B45: 31. | D45: Binary tree sort | F45: CO2,CO3 | G45: T2,R3 | H45: 43199 | I45: Double hashing, chaining
...

Sheet LABLIST
C3: LO1 | D3: Students will be able to implement various linear data structures & be able to handle operations like insertion, deletion, searching and traversing on various linear data structures.
C4: LO2 | D4: Students will be able to implement various nonlinear data structures & be able to handle operations like insertion, deletion, searching and traversing on various nonlinear data structures.
C5: LO3 | D5: Students will be able to select appropriate sorting and searching technique for given problem.
C6: LO4 | D6: Students will be able to choose appropriate data structure and apply it in various problem domains.
C7: List of Experiments :
C8: Sr. No. | D8: Title of the Experiment | E8: LO Mapped
C9: 1. | D9: Array Implementation of stack | E9: LO1
C10: 2. | D10: Linked list Implementation of stack | E10: LO1
C11: 3. | D11: Implementations of application of stack such as Infix to Postfix Transformation and its evaluation program. | E11: LO1, LO4
C12: 4. | D12: Array implementation of Linear queue | E12: LO1
C13: 5. | D13: Array implementation of Circular queue | E13: LO1
C14: 6. | D14: Implementation of Singly Linked List | E14: LO1
C15: 7. | D15: Implementation of Doubly Linked List | E15: LO1
C16: 8. | D16: Implementations of Binary Search Tree | E16: LO2
C17: 9. | D17: Implementation of Bubble Sort and Insertion Sort | E17: LO3
C18: 10. | D18: Implementation of Quick sort and Merge sort | E18: LO3
C19: 11. | D19: Implementation of Heap sort | E19: LO3
... C22: 14. | D22: Implementation of shortest path algorithm | E22: LO2,LO4
C24: Subject Incharge
C25: (Mrs. Chhaya Narvekar)
C28: Department of Information Technology
C29: (Academic Year 2018-19 Odd Semester)
C30: Class : S.E. (IT) | G30: Subject : Data Structures & Algorithm
C31: Lab Execution Plan:
C32: Sr. No. | D32: Title of the Experiment | E32: Planned Date | F32: LO Mapped
C33: 1. | D33: Array Implementation of stack | F33: LO1
C34: 2. | D34: Linked list Implementation of stack | F34: LO1
C35: 3. | D35: Implementations of application of stack such as Infix to Postfix Transformation and its evaluation program. | F35: LO1, LO4
C36: 4. | D36: Array implementation of Linear queue | F36: LO1
C37: 5. | D37: Array implementation of Circular queue | F37: LO1
C38: 6. | D38: Implementation of Singly Linked List | F38: LO1
C39: 7. | D39: Implementation of Doubly Linked List | F39: LO1
C40: 8. | D40: Implementations of Binary Search Tree | F40: LO2
C41: 9. | D41: Implementation of Bubble Sort and Insertion Sort | F41: LO3
C42: 10. | D42: Implementation of Quick sort and Merge sort | F42: LO3
C43: 11. | D43: Implementation of Heap sort | F43: LO3
C44: 12. | D44: Implementation of Hashing techniques | F44: LO3
... C46: 14. | D46: Implementation of shortest path algorithm | F46: LO2,LO4
C49: Subject Incharge
C50: (Mrs. Chhaya Narvekar)

Sheet COLIST
B3: Data Structure & Algorithm
B6: Sr.No. | C6: Course Objectives
B7: CO1 | C7: To design and implement linear data structures.
B8: CO2 | C8: To design and implement nonlinear data structures.
B9: CO3 | C9: To teach different sorting and searching techniques.
B10: CO4 | C10: To choose appropriate data structure and apply it in various problem domains.
B13: Sr.No. | C13: Course Outcomes
B14: CO1 | C14: Students will be able to implement various linear data structures & be able to handle operations like insertion, deletion, searching and traversing on various data structures.
B15: CO2 | C15: Students will be able to implement various nonlinear data structures & be able to handle operations like insertion, deletion, searching and traversing on various data structures.
B16: CO3 | C16: Students will be able to select appropriate sorting and searching technique for given problem.
B17: CO4 | C17: Students will be able to choose appropriate data structure and apply it in various problem domains.

Sheet DSA-A
B2: Academic Year 2018-19 Odd Semester)
B3: Class : S.E. IT -A | D3: Subject : Data Structures & Algorithm
B4: Lab Execution Plan:
B5: Sr. No. | C5: Title of the Experiment | D5: Planned Date | E5: LO Mapped
B6: 1. | C6: Array Implementation of stack | D6: 43411 | E6: LO1
B7: 2. | C7: Linked list Implementation of stack | D7: 43411 | E7: LO1
B8: 3. | C8: Implementations of application of stack such as Infix to Postfix Transformation and its evaluation program. | D8: 18/7/2018 | E8: LO1, LO4
B9: 4. | C9: Array implementation of Linear queue | D9: 25/7/2018 | E9: LO1
B10: 5. | C10: Array implementation of Circular queue | D10: 25/7/2018 | E10: LO1
B11: 6. | C11: Implementation of Singly Linked List | D11: 43108 | E11: LO1
B12: 7. | C12: Implementation of Doubly Linked List | D12: 43108 | E12: LO1
B13: 8. | C13: Implementations of Binary Search Tree | D13: 29/8/2018 | E13: LO2
B14: 9. | C14: Implementation of Bubble Sort and Insertion Sort | D14: 43229 | E14: LO3
B15: 10. | C15: Implementation of Quick sort and Merge sort | D15: 43443 | E15: LO3
B16: 11. | C16: Implementation of Heap sort | D16: 19/9/2018 | E16: LO3
B17: 12. | C17: Implementation of Hashing techniques | D17: 26/9/2018 | E17: LO3
B18: 13. | C18: Implementation of Depth First Search and Breadth First Search | D18: 43169 | E18: LO2,LO4
B19: 14. | C19: Implementation of shortest path algorithm | D19: 43169 | E19: LO2,LO4
B22: Subject Incharge
B23: (Mrs. Chhaya Narvekar)

Sheet DSA-B
B2: Academic Year 2018-19 Odd Semester)
B3: Class : S.E. IT -B | D3: Subject : Data Structures & Algorithm
B4: Lab Execution Plan:
B5: Sr. No. | C5: Title of the Experiment | D5: Planned Date | E5: LO Mapped | F5: Actual date
B6: 1. | C6: Array Implementation of stack | D6: 43441 | E6: LO1 | F6: 43441
B7: 2. | C7: Linked list Implementation of stack | D7: 43441 | E7: LO1
B8: 3. | C8: Implementations of application of stack such as Infix to Postfix Transformation and its evaluation program. | D8: 19/7/2018 | E8: LO1, LO4 | F8: 16/7/2018
B9: 4. | C9: Array implementation of Linear queue | D9: 26/7/2018 | E9: LO1
B10: 5. | C10: Array implementation of Circular queue | D10: 26/7/2018 | E10: LO1
B11: 6. | C11: Implementation of Singly Linked List | D11: 43139 | E11: LO1
B12: 7. | C12: Implementation of Doubly Linked List | D12: 43139 | E12: LO1
B13: 8. | C13: Implementations of Binary Search Tree | D13: 43351 | E13: LO2
B14: 9. | C14: Implementation of Bubble Sort and Insertion Sort | D14: 23/8/2018 | E14: LO3
B15: 10. | C15: Implementation of Quick sort and Merge sort | D15: 30/8/2018 | E15: LO3
B16: 11. | C16: Implementation of Heap sort | D16: 43260 | E16: LO3
B17: 12. | C17: Implementation of Hashing techniques | D17: 27/9/2018 | E17: LO3
B18: 13. | C18: Implementation of Depth First Search and Breadth First Search | D18: 27/9/2018 | E18: LO2,LO4
B19: 14. | C19: Implementation of shortest path algorithm | D19: 43200 | E19: LO2,LO4
B22: Subject Incharge
B23: (Mrs. Chhaya Narvekar)
